BEGIN:VCALENDAR
VERSION:2.0
PRODID:-//Sabre//Sabre VObject 4.1.6//EN
CALSCALE:GREGORIAN
BEGIN:VEVENT
UID:sabre-vobject-680be032-1d14-40a7-9c63-f60e073dfd9a
DTSTAMP:20260422T100645Z
SUMMARY:Strange kind of women- the classic Deep Purple Years
DTSTART;TZID=Europe/Berlin:20260509T200000
ORGANIZER;CN=Kartoffelhalle Pohl-Boskamp:MAILTO:no-reply@steinburg.eu
LOCATION:Kartoffelhalle Pohl-Boskamp\, Schäferweg 25\, Hohenlockstedt
GEO:53.9602259;9.6110894
DESCRIPTION:\nEine Veranstaltung der Reihe Strange Kind Of Women - Die einz
 igen weiblichen Deep Purple Classics\n\nDie fünf Mädels von STRANGE KIND
  OF WOMEN 'The Classic Deep Purple Years' spielen in einer ganz eigenen Li
 ga - und das nicht etwa\, weil sie die weltweit einzige weibliche Deep-Pur
 ple-Tribute-Band sind. Auf der Setlist stehen alle Klassiker von 'Child In
  Time\, 'Smoke On The Water' und 'Highway Star' bis zu 'Space Truckin'\, a
 lle mit einem bombastischen Sound dargeboten.
BEGIN:VALARM
TRIGGER;VALUE=DURATION:P1D
ACTION:DISPLAY
DESCRIPTION:Strange kind of women- the classic Deep Purple Years
END:VALARM
END:VEVENT
END:VCALENDAR
