BEGIN:VCALENDAR
VERSION:2.0
PRODID:-//Sabre//Sabre VObject 4.1.6//EN
CALSCALE:GREGORIAN
BEGIN:VEVENT
UID:sabre-vobject-56dd9984-a1e4-44a0-a6a5-44ce8ec86360
DTSTAMP:20260422T100645Z
SUMMARY:STRANGE KIND OF WOMEN - EUROPEAN PURPLE WOMEN - Tour 2026
DTSTART;TZID=Europe/Berlin:20260509T200000
ORGANIZER;CN=Hohenlockstaedt-Kartoffelhalle:MAILTO:no-reply@steinburg.eu
LOCATION:Hohenlockstaedt-Kartoffelhalle\, Schäferweg 25\, Hohenlockstedt
GEO:53.9602711;9.6126016
DESCRIPTION:\nSTRANGE KIND OF WOMEN\n\nSTRANGE KIND OF WOMEN - The Classic 
 Deep Purple YearsThe World's Only Female Rockband with their Hommage to DE
 EP PURPLEAls ROCK-KLASSIKER von DEEP PURPLE wie HIGHWAY STAR\, SPEED KING\
 , CHILD IN TIME\, BURRN oder das legendäre SMOKE ON THE WATER die Hardroc
 k-Szene in den 70er Jahren entstanden liessen\, waren diese 5 Musikerinnen
  noch gar nicht geboren!!! Die gut 1 ½ stündige Bühnen-Performance mit 
 ihrem leidenschaftlichen\,energiegeladenen Temperament vermittelt einen au
 thentischen Eindruck des Schaffens der Rock-Ikonen und überzeugt Unbedarf
 te wie Szene-Veteranen gleichermaßen. Nur wenige Bands schaffen es\, ihre
 n Vorbildern in Show und Sound tatsächlich nahe zu kommen. Darauf wurde a
 uch Ian Paice\, der legendäre Schlagzeuger von Deep Purple und das aktuel
 l einzig verbliebene Gründungsmitglied von Deep Purple\, aufmerksam und i
 st seitdem so sehr begeistert\, dass er sogar auf einem gemeinsamen Konzer
 t in Graz mit Ihnen spielte. Danach sagte er: "Es macht wirklich viel Spa
 ß mit ihnen zu spielen. Sie machen einen wirklich tollen Job\, haben eine
 n großartigen Sound und geben alles. Ich habe es sehr genossen mit Ihnen 
 zu spielen."Die Besetzung von "Strange Kind Of Women - The Classic Deep Pu
 rple Years" bilden fünf professionelle\, international agierende Musikeri
 nnen. Als Frontfrauen agieren\, die in Italien Bewunderung und Berühmthei
 t genießen: Seit Herbst 2023 ist die in London lebende Leadsängerin RONN
 IE die Stimme der Band und mit Gitarristin Eliana Cargnelutti (die neue Ho
 ffnung des italienischen Blues Rocks) in der ersten Reihe. Begleitet werde
 n sie von Chiara Cotugno am Schlagzeug\, Margherita Gruden an den Keyboard
 s und Elettra Pizzale am Bass.
BEGIN:VALARM
TRIGGER;VALUE=DURATION:P1D
ACTION:DISPLAY
DESCRIPTION:STRANGE KIND OF WOMEN - EUROPEAN PURPLE WOMEN - Tour 2026
END:VALARM
END:VEVENT
END:VCALENDAR
