BEGIN:VCALENDAR
VERSION:2.0
PRODID:-//Sabre//Sabre VObject 4.1.6//EN
CALSCALE:GREGORIAN
BEGIN:VEVENT
UID:sabre-vobject-c3a9285e-8cc5-4230-afb9-49b73cc6221e
DTSTAMP:20260424T125301Z
SUMMARY:Marktfest
DTSTART;TZID=Europe/Berlin:20250907T120000
DTEND;TZID=Europe/Berlin:20250907T180000
ORGANIZER;CN=Marktplatz Glückstadt:MAILTO:no-reply@steinburg.eu
LOCATION:Marktplatz Glückstadt\, Am Markt \, Glückstadt
GEO:53.7883156;9.4237292
DESCRIPTION:\nZum Neubürger*innen-Empfang geht es in Glückstadt auf  Mark
 tfesterneut richtig rund.\n\nDas Rahmenprogramm ist ein Mix aus Informatio
 nen\, internationaler Live Musik\, Spiel- und Spaß Aktionen für große u
 nd kleine Gäste sowie einem gastronomischen Angebot. Als Künstler ist di
 e Lübecker Singer-Songwriterin Linny Johnson dabei. Präsentiert wird das
  Repertoire unter der gewohnt launigen Moderation von Stefan Wolter.
BEGIN:VALARM
TRIGGER;VALUE=DURATION:P1D
ACTION:DISPLAY
DESCRIPTION:Marktfest
END:VALARM
END:VEVENT
END:VCALENDAR
