BEGIN:VCALENDAR
VERSION:2.0
PRODID:-//Sabre//Sabre VObject 4.1.6//EN
CALSCALE:GREGORIAN
BEGIN:VEVENT
UID:sabre-vobject-96f526ed-410f-4b43-9c5b-d065028e8b22
DTSTAMP:20260424T193714Z
SUMMARY:Late Night Jobbing
DTSTART;TZID=Europe/Berlin:20260507T163000
ORGANIZER;CN=Innenstadt Itzehoe:MAILTO:no-reply@steinburg.eu
LOCATION:Innenstadt Itzehoe\, Breite Straße \, Itzehoe
GEO:53.9220825;9.5178937
DESCRIPTION:\nDie etwas andere Jobmesse auf dem Steinburger Abendmarkt\n\nD
 as neue Veranstaltungsformat Late Night Jobbing stößt bereits im Vorfeld
  auf große Resonanz: Zahlreiche Unternehmen aus der Region haben sich bew
 orben\, alle verfügbaren Plätze konnten vergeben werden. Insgesamt 21 Un
 ternehmen werden sich im Rahmen des Abendmarktes in Itzehoe am 07. Mai ab 
 16.30 Uhr in der Breiten Straße präsentieren.\n\nErstmals ergänzt das L
 ate Night Jobbing den Abendmarkt um eine besondere Form der Jobmesse. Nebe
 n Essen\, Musik\, Kultur und Zusammenkunft entsteht eine Plattform\, auf d
 er Unternehmen mit Interessierten ins Gespräch kommen und über mögliche
  Jobangebote informieren können.\n\nInitiiert wurde das Konzept vom Kreis
  Steinburg\, der Stadt Itzehoe\, der Agentur für Arbeit sowie dem Fraunho
 fer ISIT. Mit organisiert wird die Veranstaltung durch das Stadtmanagement
 \, ohne die vieles nicht möglich gewesen wäre. Ziel ist es\, regionale A
 rbeitgeber sichtbarer zu machen und neue Wege der Begegnung zwischen Unter
 nehmen und potenziellen Fachkräften zu eröffnen. Der Abendmarkt bietet d
 afür den passenden Rahmen: In einer ungezwungenen und lockeren Atmosphär
 e können sich Arbeitgeber präsentieren und mit kreativen Ideen auf sich 
 aufmerksam machen.\n\n"Wir freuen uns sehr auf dieses neue Format. Der Aus
 tausch in einem offenen\, modernen und nahbaren Rahmen bietet eine gute M
 öglichkeit\, miteinander ins Gespräch zu kommen und neue Fachkräfte fü
 r unsere Region zu gewinnen"\, freut sich Dr. Natalie Nobitz\, Leiterin de
 r Abteilung Personalmarketing und Ausbildung des Kreises Steinburg.\nDiese
  Unternehmen sind dabei:\n\n1. Kreis Steinburg\n\n2. Stadt Itzehoe\n\n3. F
 raunhofer ISIT\n\n4. Sparkasse Westholstein\n\n5. Wilckens Farben\n\n6. Ag
 entur für Arbeit\n\n7. Itzehoer Versicherungen\n\n8. Hans Otte\n\n9. Prok
 on\n\n10. Thies Medicenter\n\n11. TopFit Sportstudio\n\n12. WAP Wirtschaft
 sprüfer\, Steuerberater\n\n13. Altstädter Apotheke\n\n14. Klinikum Itzeh
 oe\n\n15. DRK Pflegedienst Steinburg gGmbH\n\n16. Haus an der Stör\n\n17.
  RKISH\n\n18. XFAB Mems Foundry Itzehoe\n\n19. Seniorenhaus Lägerdorf\n\n
 20. DRK Schwesternschaft\n\n21. Haus Mühlenthal
BEGIN:VALARM
TRIGGER;VALUE=DURATION:P1D
ACTION:DISPLAY
DESCRIPTION:Late Night Jobbing
END:VALARM
END:VEVENT
END:VCALENDAR
