BEGIN:VCALENDAR
VERSION:2.0
PRODID:-//Sabre//Sabre VObject 4.1.6//EN
CALSCALE:GREGORIAN
BEGIN:VEVENT
UID:sabre-vobject-793dffac-04b8-49a2-b3d5-8242385507c8
DTSTAMP:20260424T193713Z
SUMMARY:Kunst.Sprech.Stunde im Rahmen der Ausstellung OHNE HIN UND ÜBER DI
 ES
DTSTART;TZID=Europe/Berlin:20260507T190000
DTEND;TZID=Europe/Berlin:20260507T210000
ORGANIZER;CN=Kunstverein Glückstadt e.V.:MAILTO:no-reply@steinburg.eu
LOCATION:Palais für aktuelle Kunst\, Am Hafen 46\, Glückstadt
GEO:53.78592;9.41731
DESCRIPTION:\nBildobjekte und Skulptur - Peter F. Piening und Volker Tieman
 n\n\n... gemeinsam betrachten und sprechen wir über eine konkrete Arbeit 
 eines der beiden Bildhauer Volker Tiemann oder Peter F. Piening.\nGehen wi
 r auf eine Entdeckungsreise in/an einer kleinen Wandarbeit\, einer Skulptu
 r oder dem begehbaren Großobjekt!\nDie Werke von Peter F. Piening (Jg. 19
 42) und Volker Tiemann (Jg. 1963) erkennt man sofort\, denn beide haben ei
 ne beeindruckende\, ganz besondere künstlerische Handschrift entwickelt! 
 Beider Künstler Werkstoff ist Holz. Es fasziniert\, wie sie das Material 
 ästhetisch in Form und Inhalt ausreizen\, wie beide spielerisch Material\
 , Form und Inhalt gedanklich immer neu verbinden.\nPeter F. Piening und Vo
 lker Tiemann regen uns mit ihren hintersinnig- humorvollen Arbeiten zum Na
 chdenken und zum Schmunzeln über uns selbst und die Welt um uns herum an.
BEGIN:VALARM
TRIGGER;VALUE=DURATION:P1D
ACTION:DISPLAY
DESCRIPTION:Kunst.Sprech.Stunde im Rahmen der Ausstellung OHNE HIN UND ÜBE
 R DIES
END:VALARM
END:VEVENT
END:VCALENDAR
