BEGIN:VCALENDAR
VERSION:2.0
PRODID:-//Sabre//Sabre VObject 4.1.6//EN
CALSCALE:GREGORIAN
BEGIN:VEVENT
UID:sabre-vobject-318a0841-14a7-4687-8647-4706f4beb1b9
DTSTAMP:20260423T120340Z
SUMMARY:Konfirmationsgottesdienst
DTSTART;TZID=Europe/Berlin:20260510T100000
ORGANIZER;CN=Ev.-Luth. Kirchengemeinde St. Jürgen/Horst:MAILTO:kirchengeme
 inde-horst@kk-rm.de
LOCATION:St. Jürgen\, Bahnhofstraße 1\, Horst (Holstein)
GEO:53.81152;9.618754
DESCRIPTION:Gottesdienst zur Einsegnung der KonfirmandInnen u. Konfirmanden
BEGIN:VALARM
TRIGGER;VALUE=DURATION:P1D
ACTION:DISPLAY
DESCRIPTION:Konfirmationsgottesdienst
END:VALARM
END:VEVENT
END:VCALENDAR
