BEGIN:VCALENDAR
VERSION:2.0
PRODID:-//Sabre//Sabre VObject 4.1.6//EN
CALSCALE:GREGORIAN
BEGIN:VEVENT
UID:sabre-vobject-8edd88e9-0893-40ba-8980-8167f4e3c0e2
DTSTAMP:20260420T075713Z
SUMMARY:Konfirmation mit Pastorin Meyns
DTSTART;TZID=Europe/Berlin:20260509T110000
DTEND;TZID=Europe/Berlin:20260509T120000
ORGANIZER;CN=Ev.-Luth. Kirchengemeinde Schenefeld:MAILTO:kirchenbuero-schen
 efeld@kkre.de
LOCATION:Bonifatiuskirche\, Am Markt 8\, Schenefeld
GEO:54.0462237;9.4830113
DESCRIPTION:Konfirmation mit Pastorin Meyns
BEGIN:VALARM
TRIGGER;VALUE=DURATION:P1D
ACTION:DISPLAY
DESCRIPTION:Konfirmation mit Pastorin Meyns
END:VALARM
END:VEVENT
END:VCALENDAR
