BEGIN:VCALENDAR
VERSION:2.0
PRODID:-//Sabre//Sabre VObject 4.1.6//EN
CALSCALE:GREGORIAN
BEGIN:VEVENT
UID:sabre-vobject-3d78367d-eda3-40bd-88f3-1a0727353b1e
DTSTAMP:20260420T075713Z
SUMMARY:Kinderkirche
DTSTART;TZID=Europe/Berlin:20260509T110000
ORGANIZER;CN=Ev.-Luth. Kirchengemeinde Lägerdorf:MAILTO:kirchengemeinde-la
 egerdorf@kk-rm.de
LOCATION:Lutherkirche Lägerdorf\, Stiftstraße 21\, Lägerdorf
GEO:53.89121;9.57055
BEGIN:VALARM
TRIGGER;VALUE=DURATION:P1D
ACTION:DISPLAY
DESCRIPTION:Kinderkirche
END:VALARM
END:VEVENT
END:VCALENDAR
