BEGIN:VCALENDAR
VERSION:2.0
PRODID:-//Sabre//Sabre VObject 4.1.6//EN
CALSCALE:GREGORIAN
BEGIN:VEVENT
UID:sabre-vobject-c8270741-e1ea-49d4-b889-73cdef7b3730
DTSTAMP:20260422T100617Z
SUMMARY:Jubiläumskonzert Pro Gospel
DTSTART;TZID=Europe/Berlin:20260509T170000
ORGANIZER;CN=Ev.-Luth. Kirchengemeinde Kellinghusen:MAILTO:no-reply@steinbu
 rg.eu
LOCATION:St. Cyriacus Kirche Kellinghusen\, Lindenstraße 2\, Kellinghusen
GEO:53.9498434;9.7189972
DESCRIPTION:\nDer Gospelchor der Kirchengemeinde Kellinghusen feiert in die
 sem Jahr sein 30jähriges Bestehen und lädt herzlich zu einem Konzert mit
  anschließendem Empfang ein.\n\n"Come let us sing" - dieser Aufforderung 
 kommen die Sängerinnen und Sänger des Chores Pro Gospel nun schon seit 3
 0 Jahren nach. Drei Jahrzehnte mit unzähligen Probenstunden\, vielen Auft
 ritten und tollen gemeinsamen Stunden dürfen wir nun feiern. Und dies mö
 chten wir nicht alleine. Wir laden Sie herzlich zu einem Konzert mit ansch
 ließendem Beisammensein mit Snacks\, Getränken und Klönschnack in die w
 underschöne St. Cyriacus Kirche in Kellinghusen ein. Wir freuen uns auf S
 ie.
BEGIN:VALARM
TRIGGER;VALUE=DURATION:P1D
ACTION:DISPLAY
DESCRIPTION:Jubiläumskonzert Pro Gospel
END:VALARM
END:VEVENT
END:VCALENDAR
