BEGIN:VCALENDAR
VERSION:2.0
PRODID:-//Sabre//Sabre VObject 4.1.6//EN
CALSCALE:GREGORIAN
BEGIN:VEVENT
UID:sabre-vobject-dd210990-68d9-447f-9acc-4dc0793bd633
DTSTAMP:20260424T023704Z
SUMMARY:IGA OSOWSKA Quartett - polnische Jazz-Poesie
DTSTART;TZID=Europe/Berlin:20260425T200000
DTEND;TZID=Europe/Berlin:20260425T220000
ORGANIZER;CN=Klappstuhlkultur Kellinghusen:MAILTO:eharzer@web.de
LOCATION:Klappstuhlkultur Kellinghusen\, Brauerstr. 62-64\, Kellinghusen
GEO:53.9539242;9.7308534
DESCRIPTION:Iga Osowska ist eine junge\, mitreißende Sängerin\, die 2023 
 als erste weibliche Person den renommierten Lübecker Jazzpreis gewann.\nM
 it ihrem Quartett entführt sie uns in die Welt der polnischen Jazz Poesie
  und lädt uns ein\, für einen Moment den Alltag zu vergessen\, zu träum
 en und in die poetische Welt ihrer Musik einzutauchen.
BEGIN:VALARM
TRIGGER;VALUE=DURATION:P1D
ACTION:DISPLAY
DESCRIPTION:IGA OSOWSKA Quartett - polnische Jazz-Poesie
END:VALARM
END:VEVENT
END:VCALENDAR
