BEGIN:VCALENDAR
VERSION:2.0
PRODID:-//Sabre//Sabre VObject 4.1.6//EN
CALSCALE:GREGORIAN
BEGIN:VEVENT
UID:sabre-vobject-a0343ca0-dcd9-4702-b7de-c640859b06a1
DTSTAMP:20260423T120429Z
SUMMARY:Gottesdienst zu Paul Gerhardt "Geh' aus\, mein Herz"
DTSTART;TZID=Europe/Berlin:20260510T100000
ORGANIZER;CN=Ev.-Luth. Innenstadtgemeinde Itzehoe:MAILTO:innenstadtgemeinde
 -itzehoe@kk-rm.de
LOCATION:St. Laurentii Itzehoe\, Kirchenstraße 8\, Itzehoe
GEO:53.988586;9.529457
BEGIN:VALARM
TRIGGER;VALUE=DURATION:P1D
ACTION:DISPLAY
DESCRIPTION:Gottesdienst zu Paul Gerhardt "Geh' aus\, mein Herz"
END:VALARM
END:VEVENT
END:VCALENDAR
