BEGIN:VCALENDAR
VERSION:2.0
PRODID:-//Sabre//Sabre VObject 4.1.6//EN
CALSCALE:GREGORIAN
BEGIN:VEVENT
UID:sabre-vobject-0cb77930-de77-47e3-9e52-caef6a36a91a
DTSTAMP:20260423T120332Z
SUMMARY:Gottesdienst mit Konfirmationen
DTSTART;TZID=Europe/Berlin:20260510T100000
ORGANIZER;CN=Ev.-Luth. Kirchengemeinde St. Anschar Münsterdorf:MAILTO:kirc
 hengemeinde-muensterdorf@kk-rm.de
LOCATION:St. Anschar\, Kirchenstr. 1\, Münsterdorf
BEGIN:VALARM
TRIGGER;VALUE=DURATION:P1D
ACTION:DISPLAY
DESCRIPTION:Gottesdienst mit Konfirmationen
END:VALARM
END:VEVENT
END:VCALENDAR
