BEGIN:VCALENDAR
VERSION:2.0
PRODID:-//Sabre//Sabre VObject 4.1.6//EN
CALSCALE:GREGORIAN
BEGIN:VEVENT
UID:sabre-vobject-a2bd27c1-1b28-49e7-8bd8-743acf75e398
DTSTAMP:20260422T100617Z
SUMMARY:Goldene Konfirmation mit Posaunenchor
DTSTART;TZID=Europe/Berlin:20260510T093000
ORGANIZER;CN=Ev.-Luth. Kirchengemeinde Kellinghusen:MAILTO:kirchengemeinde-
 kellinghusen@kk-rm.de
LOCATION:Christuskirche\, Schulstraße 12\, Hennstedt
GEO:54.285966;9.165841
BEGIN:VALARM
TRIGGER;VALUE=DURATION:P1D
ACTION:DISPLAY
DESCRIPTION:Goldene Konfirmation mit Posaunenchor
END:VALARM
END:VEVENT
END:VCALENDAR
