BEGIN:VCALENDAR
VERSION:2.0
PRODID:-//Sabre//Sabre VObject 4.1.6//EN
CALSCALE:GREGORIAN
BEGIN:VEVENT
UID:sabre-vobject-8eca0a6b-4fee-405c-90ee-5ed0ec66e132
DTSTAMP:20260424T193706Z
SUMMARY:Gebetskreis im Gemeindehaus
DTSTART;TZID=Europe/Berlin:20260507T200000
DTEND;TZID=Europe/Berlin:20260507T210000
ORGANIZER;CN=Ev.-Luth. Kirchengemeinde Schenefeld:MAILTO:kirchenbuero-schen
 efeld@kkre.de
LOCATION:Bonifatiuskirche Schenefeld\, Holstenstr. 31\, Schenefeld
GEO:54.04559005;9.4817359967426
DESCRIPTION:Herzliche Einladung!\nWir beten für unsere Kirchengemeinde und
  verschiedene Anliegen im Gemeindehaus.
BEGIN:VALARM
TRIGGER;VALUE=DURATION:P1D
ACTION:DISPLAY
DESCRIPTION:Gebetskreis im Gemeindehaus
END:VALARM
END:VEVENT
END:VCALENDAR
