BEGIN:VCALENDAR
VERSION:2.0
PRODID:-//Sabre//Sabre VObject 4.1.6//EN
CALSCALE:GREGORIAN
BEGIN:VEVENT
UID:sabre-vobject-562f5ffc-4c80-463b-a7b7-ad9960be16b9
DTSTAMP:20260423T073112Z
SUMMARY:Frühstückstreffen
DTSTART;TZID=Europe/Berlin:20260507T093000
DTEND;TZID=Europe/Berlin:20260507T113000
ORGANIZER;CN=Ev.-Luth. Kirchengemeinde St. Michaelis Itzehoe:MAILTO:michael
 is.iz@kk-rm.de
LOCATION:St. Michaelis\, Sandstraße 4\, Itzehoe
GEO:53.907575;9.505023
BEGIN:VALARM
TRIGGER;VALUE=DURATION:P1D
ACTION:DISPLAY
DESCRIPTION:Frühstückstreffen
END:VALARM
END:VEVENT
END:VCALENDAR
