BEGIN:VCALENDAR
VERSION:2.0
PRODID:-//Sabre//Sabre VObject 4.1.6//EN
CALSCALE:GREGORIAN
BEGIN:VEVENT
UID:sabre-vobject-0bdc3495-2aaf-4fb8-9ed1-1dbc7fa6060d
DTSTAMP:20260421T033518Z
SUMMARY:Frühstück in Gemeinschaft
DTSTART;TZID=Europe/Berlin:20260505T090000
DTEND;TZID=Europe/Berlin:20260505T110000
ORGANIZER;CN=Begegnungsstätte Glücksknoten:MAILTO:no-reply@steinburg.eu
LOCATION:Begegnungsstätte Glücksknoten\, Am Kirchplatz 6\, Glückstadt
GEO:53.7883069;9.4265707
DESCRIPTION:\nZum Markttag am Dienstag gibt es leckeres Frühstück im Glü
 cksKnoten. Neue Menschen kennenlernen und miteinander ins Gespräch kommen
  ist das Motto von "Frühstück in Gemeinschaft".\nWährenddessen sind die
  Ausstellungsräume geöffnet.
BEGIN:VALARM
TRIGGER;VALUE=DURATION:P1D
ACTION:DISPLAY
DESCRIPTION:Frühstück in Gemeinschaft
END:VALARM
END:VEVENT
END:VCALENDAR
