BEGIN:VCALENDAR
VERSION:2.0
PRODID:-//Sabre//Sabre VObject 4.1.6//EN
CALSCALE:GREGORIAN
BEGIN:VEVENT
UID:sabre-vobject-bb34ecbe-5e0e-48f6-b815-a9af142ae37e
DTSTAMP:20260421T084426Z
SUMMARY:Frühjahrs-Jahrmarkt
DTSTART;TZID=Europe/Berlin:20260509T140000
DTEND;TZID=Europe/Berlin:20260509T220000
ORGANIZER;CN=Marktplatz Glückstadt:MAILTO:no-reply@steinburg.eu
LOCATION:Marktplatz Glückstadt\, Am Markt \, Glückstadt
GEO:53.7883156;9.4237292
DESCRIPTION:Kirmes mitten in der historischen Innenstadt von Glückstadt. O
 b Burgunderbrötchen\, Karussell oder Softeisbude\, hier ist für jeden et
 was dabei.
BEGIN:VALARM
TRIGGER;VALUE=DURATION:P1D
ACTION:DISPLAY
DESCRIPTION:Frühjahrs-Jahrmarkt
END:VALARM
END:VEVENT
END:VCALENDAR
