BEGIN:VCALENDAR
VERSION:2.0
PRODID:-//Sabre//Sabre VObject 4.1.6//EN
CALSCALE:GREGORIAN
BEGIN:VEVENT
UID:sabre-vobject-177af233-ab69-4ecb-8444-0c60c2a74f7c
DTSTAMP:20260420T075753Z
SUMMARY:Europäischer Aktionstag zur Gleichstellung von Menschen mit Behind
 erungen
DTSTART;TZID=Europe/Berlin:20260509T100000
DTEND;TZID=Europe/Berlin:20260509T140000
ORGANIZER;CN=Beauftragte für Menschen mit Behinderung Kreis Dithmarschen:M
 AILTO:marie-elisabeth.zachow@dithmarschen.de
LOCATION:Platz vor dem inklusiven Restaurant "himmel+erde"\, und im Gemeind
 esaal St. Laurentii\, Kirchenstr. 10\, Itzehoe
GEO:53.923538;9.5182413
DESCRIPTION:Europäischer Aktionstag zur Gleichstellung von Menschen mit Be
 hinderungen 2026\nGemeinsame Aktion der Kreise Dithmarschen und Steinburg\
 nMenschenrechte sind nicht verhandelbar.\nWir stehen auf- gemeinsam.\n\nGe
 spräche\, Aktionen und Informationen zu Inklusion\, Barrieren u.a. \nmit 
 dem Chor Fliekemas der Stiftung Mensch\, \ninklusivem Eisstockschießen\,\
 nLegorampenbau\,\nSpezialräder und behindertengerechtes Fahrschulfahrzeug
  zum Ausprobieren\,\nTrommelworkshop\,\nArbeitskreis Neurodiversität\,\nW
 orkshop "Weg mit den Barrieren"\,\nFragerunde mit Menschen mit Behinderung
 en\,\ngehörlosem DJ Metze mit Handicap-Disco\,\nInformationen zu Pflege u
 nd Sicherheit\nu.v.m.\n\nmit Gebärdensprachdolmetschung
BEGIN:VALARM
TRIGGER;VALUE=DURATION:P1D
ACTION:DISPLAY
DESCRIPTION:Europäischer Aktionstag zur Gleichstellung von Menschen mit Be
 hinderungen
END:VALARM
END:VEVENT
END:VCALENDAR
