BEGIN:VCALENDAR
VERSION:2.0
PRODID:-//Sabre//Sabre VObject 4.1.6//EN
CALSCALE:GREGORIAN
BEGIN:VEVENT
UID:sabre-vobject-17e11377-2733-4152-b663-7057a5a4a14a
DTSTAMP:20260421T084426Z
SUMMARY:AugenBlicke - Irene Heller-Janton+Isabel Lange - Finissage
DTSTART;TZID=Europe/Berlin:20260509T131400
ORGANIZER;CN=Galerie 11:MAILTO:Info@Galerie11.de
LOCATION:Galerie 11\, Breitenburger Straße 1\, Itzehoe
GEO:53.9215671;9.517629
DESCRIPTION:\nBeide Künstlerinnen stellten schon mehrfach zusammen aus und
  freuen sich darauf\, ab 21. März 17 Uhr ihre Arbeiten in der Galerie 11 
 zu zeigen. Am 9. Mai\, dem letzten Ausstellungstag kommen beide Künstleri
 nnen noch einmal\, um auf die schöne Ausstellung anzustoßen\, die Verkä
 ufe abzuwickeln und letzte Fragen zu beantworten.\n\nMehr über Kunst und 
 Künstlerinnen erfahren Sie bei Kultur und Wort\, dem Kunstpodcast ausm No
 rden. Als Episode #30 kann das Interview zur Ausstellungseröffnung nachge
 hört werden.\n\nÖffnungszeiten: Do 11-14 Uhr\, Fr 15-18 Uhr\, Sa 11-14 U
 hr)
BEGIN:VALARM
TRIGGER;VALUE=DURATION:P1D
ACTION:DISPLAY
DESCRIPTION:AugenBlicke - Irene Heller-Janton+Isabel Lange - Finissage
END:VALARM
END:VEVENT
END:VCALENDAR
