BEGIN:VCALENDAR
VERSION:2.0
PRODID:-//Sabre//Sabre VObject 4.1.6//EN
CALSCALE:GREGORIAN
BEGIN:VEVENT
UID:sabre-vobject-3c5e8645-bf27-4691-b21a-53dcfde198a8
DTSTAMP:20260420T075717Z
SUMMARY:AugenBlicke - Irene Heller-Janton + Isabel Lange
DTSTART;TZID=Europe/Berlin:20260509T110000
DTEND;TZID=Europe/Berlin:20260509T140000
ORGANIZER;CN=Galerie 11:MAILTO:Info@Galerie11.de
LOCATION:Galerie 11\, Breitenburger Straße 1\, Itzehoe
GEO:53.9215671;9.517629
DESCRIPTION:Beide Künstlerinnen stellten schon mehrfach zusammen aus und f
 reuen sich darauf\, ab 21. März 17 Uhr ihre Arbeiten in der Galerie 11 zu
  zeigen.\nMit Irene Heller-Janton und Isabel Lange stellt die Galerie 11 z
 wei Künstlerinnen vor\, die seit Jahrzehnten Teil der Kreativszene des La
 ndes sind. Beide starteten mit einer handwerklichen Ausbildung und haben i
 nzwischen ihren eignen\, unverkennbaren künstlerischen Ausdruck gefunden.
 \nIrene Heller-Janton studierte Gestaltung in Hamburg bei Gisela Bührmann
  und ist seit 50 Jahren als diplomierte Textildesignerin tätig. Vor über
  30 Jahren rückte in ihrem Atelier die freie Malerei in den Mittelpunkt.\
 nIhre Bilder sind farblich reich und durchdacht komponiert – mal mit erk
 ennbaren Motiven wie Figuren\, gerne Gesichtern und Ausschnitten oder Blum
 en\, ganzen Gärten oder Landschaften – mal von der Wirklichkeit entrüc
 kt und sphärisch klingend oder von mystischen Strukturen durchsetzt.\n\nI
 rene Heller-Janton studierte Gestaltung in Hamburg bei Gisela Bührmann un
 d ist seit 50 Jahren als diplomierte Textildesignerin tätig. Vor über 30
  Jahren rückte in ihrem Atelier die freie Malerei in den Mittelpunkt.\n\n
 Ihre Bilder sind farblich reich und durchdacht komponiert – mal mit erke
 nnbaren Motiven wie Figuren\, gerne Gesichtern und Ausschnitten oder Blume
 n\, ganzen Gärten oder Landschaften – mal von der Wirklichkeit entrück
 t und sphärisch klingend oder von mystischen Strukturen durchsetzt.\n\nIs
 abel Lange hat in Schleswig-Holstein eine große Werkstatt für Metall und
  arbeitet am liebsten mit Eisen. Dabei entstehen klassische Formen von Vö
 geln oder Figurinen. Wiedererkennbar sind ihre Stelen: Frauendarstellungen
 \, bei denen das Kleid\, das große Tuch oder auch die Haare zusammengeset
 zt sind aus einzelnen verschweißten Mosaikteilen oder ins Metall geschnit
 ten\, die dann mit den vielen Zwischenräumen wie ein Scherenschnitt in Sc
 hwarz-Weiß erscheinen. Einige solcher Damen im Wind stehen an öffentlich
 en Plätzen.\nBeide Künstlerinnen stellten schon mehrfach zusammen aus un
 d freuen sich darauf\, ab 21. März 17 Uhr ihre Arbeiten in einer gemeinsa
 men Schau in der Galerie 11 zu zeigen. Der Titel der Ausstellung „AugenB
 licke“ bezieht sich dabei auf die Spontaneität\, sich für ein Motiv zu
  entscheiden\, sowie auf die Vergänglichkeit schöner Momente.\n\nMehr ü
 ber Kunst und Künstlerinnen erfahren Sie auf der Ausstellungseröffnung a
 m Sonnabend\, 21. März\, um 17 Uhr. Die Galeristin Bettina Winkler-Marxen
  wird die Künstlerinnen in einem Interview vorstellen. Danach ist die Aus
 stellung bis 9. Mai zu sehen (Öffnungszeiten: Do 11-14 Uhr\, Fr 15-18 Uhr
 \, Sa 11-14 Uhr).
BEGIN:VALARM
TRIGGER;VALUE=DURATION:P1D
ACTION:DISPLAY
DESCRIPTION:AugenBlicke - Irene Heller-Janton + Isabel Lange
END:VALARM
END:VEVENT
END:VCALENDAR
