BEGIN:VCALENDAR
VERSION:2.0
PRODID:-//Sabre//Sabre VObject 4.1.6//EN
CALSCALE:GREGORIAN
BEGIN:VEVENT
UID:sabre-vobject-26ddda90-851b-4932-b289-964bf6d8bb9f
DTSTAMP:20260424T121542Z
SUMMARY:Tauf-Gottesdienst
DTSTART;TZID=Europe/Berlin:20260503T100000
ORGANIZER;CN=Ev.-Luth. St. Johannes-Kirchengemeinde Kremperheide:MAILTO:kir
 chengemeinde-kremperheide@kk-rm.de
LOCATION:Ev.-Luth. St. Johannes-Kirchengemeinde Kremperheide\, St. Johannes
 -Platz 1\, Kremperheide
GEO:53.887716;9.477085
DESCRIPTION:Im Anschluss findet unser Kirchenkaffee im Kaminzimmer statt\, 
 wozu Sie herzlich eingeladen sind.\nAnmeldungen und Informationen für all
 e Taufen bei Pastor Kosbab\, Tel. 04821 77973-47
BEGIN:VALARM
TRIGGER;VALUE=DURATION:P1D
ACTION:DISPLAY
DESCRIPTION:Tauf-Gottesdienst
END:VALARM
END:VEVENT
END:VCALENDAR
