BEGIN:VCALENDAR
VERSION:2.0
PRODID:-//Sabre//Sabre VObject 4.1.6//EN
CALSCALE:GREGORIAN
BEGIN:VEVENT
UID:sabre-vobject-82b97c77-5967-4e0a-9715-d38939f255f1
DTSTAMP:20260422T141844Z
SUMMARY:STÖRRADELN
DTSTART;TZID=Europe/Berlin:20260501T140000
DTEND;TZID=Europe/Berlin:20260501T160000
ORGANIZER;CN=Kirchenstraße Itzehoe:MAILTO:no-reply@steinburg.eu
LOCATION:Kirchenstraße Itzehoe\, Kirchenstraße \, Itzehoe
GEO:53.9234466;9.5174479
DESCRIPTION:\nFahrradparade durch Itzehoe und über zwei Störbrücken anl
 ässlich des offiziellen Auftakts der internationalen Fahrradkampagne STAD
 TRADELN im Kreis Steinburg. Wir radeln für den Klimaschutz und...Kategori
 e:HalbtagestourGeeignet für: Alltagsrad\, Mountainbike\, Rennrad\, Lieger
 ad\, Pedelec\, Tandem\, Anhänger / DreiradLänge: 15 km Besondere Zielgru
 ppen:
BEGIN:VALARM
TRIGGER;VALUE=DURATION:P1D
ACTION:DISPLAY
DESCRIPTION:STÖRRADELN
END:VALARM
END:VEVENT
END:VCALENDAR
