BEGIN:VCALENDAR
VERSION:2.0
PRODID:-//Sabre//Sabre VObject 4.1.6//EN
CALSCALE:GREGORIAN
BEGIN:VEVENT
UID:sabre-vobject-ad11ea37-8306-4ef7-abda-40d2bb21fe1f
DTSTAMP:20260422T012946Z
SUMMARY:Maifeuer in Glückstadt
DTSTART;TZID=Europe/Berlin:20260430T173000
ORGANIZER;CN=Docke Glückstadts Fischpark:MAILTO:no-reply@steinburg.eu
LOCATION:Docke Glückstadts Fischpark\, Am Hafen \, Glückstadt
GEO:53.785841;9.4176025
DESCRIPTION:\nMaiferue der Feuerwehr Glückstadt\n\nMaifeuer der Feuerwehr 
 Glückstadt auf der Docke am Außenhafen.Kommt vorbei und erlebt mit uns e
 inen unvergesslichen Abend voller musik\, guter Stimmung und gemütlicher 
 Atmosphäre.
BEGIN:VALARM
TRIGGER;VALUE=DURATION:P1D
ACTION:DISPLAY
DESCRIPTION:Maifeuer in Glückstadt
END:VALARM
END:VEVENT
END:VCALENDAR
