BEGIN:VCALENDAR
VERSION:2.0
PRODID:-//Sabre//Sabre VObject 4.1.6//EN
CALSCALE:GREGORIAN
BEGIN:VEVENT
UID:sabre-vobject-0a41f572-0136-4949-ba49-3318485b5be3
DTSTAMP:20260424T121543Z
SUMMARY:Konfirmation mit Pastorin Meyns
DTSTART;TZID=Europe/Berlin:20260503T110000
DTEND;TZID=Europe/Berlin:20260503T120000
ORGANIZER;CN=Ev.-Luth. Kirchengemeinde Schenefeld:MAILTO:kirchenbuero-schen
 efeld@kkre.de
LOCATION:Bonifatiuskirche\, Am Markt 8\, Schenefeld
GEO:54.0462237;9.4830113
DESCRIPTION:Konfirmation mit Pastorin Meins
BEGIN:VALARM
TRIGGER;VALUE=DURATION:P1D
ACTION:DISPLAY
DESCRIPTION:Konfirmation mit Pastorin Meyns
END:VALARM
END:VEVENT
END:VCALENDAR
