BEGIN:VCALENDAR
VERSION:2.0
PRODID:-//Sabre//Sabre VObject 4.1.6//EN
CALSCALE:GREGORIAN
BEGIN:VEVENT
UID:sabre-vobject-6b941620-fae9-46fc-b062-af6bb24d8dc7
DTSTAMP:20260424T121541Z
SUMMARY:Itzehoer Heldentag mit verkaufsoffenem Sonntag
DTSTART;TZID=Europe/Berlin:20260503T120000
DTEND;TZID=Europe/Berlin:20260503T170000
ORGANIZER;CN=Innenstadt Itzehoe:MAILTO:no-reply@steinburg.eu
LOCATION:Innenstadt Itzehoe\, Breite Straße \, Itzehoe
GEO:53.9220825;9.5178937
DESCRIPTION:\nAm Sonntag\, 03. Mai 2026\, findet in der Itzehoer Innenstadt
  von 12 bis 17 Uhr der Itzehoer Heldentag statt. Besucherinnen und Besuche
 r erwartet ein abwechslungsreicher Aktionstag mit Vorführungen\, Informat
 ionsständen\, Musik und Angeboten für die ganze Familie. Zusätzlich öf
 fnen zahlreiche Geschäfte in der Innenstadt im Rahmen eines verkaufsoffen
 en Sonntags ihre Türen.\n\nBeim Itzehoer Heldentag stehen die Heldinnen u
 nd Helden des Alltags im Mittelpunkt - Menschen und Organisationen\, die s
 ich tagtäglich für andere einsetzen. Mit dabei sind unter anderem die Fe
 uerwehr Itzehoe\, der Round Table Itzehoe mit einem DKMS-Infostand sowie d
 as Klinikum Itzehoe. Sie stellen einen Teil ihrer Arbeit vor und zeigen\, 
 wie vielfältig Hilfe\, Engagement und Einsatz für die Gemeinschaft ausse
 hen können. Die Feuerwehr Itzehoe ist mit verschiedenen Einsatzfahrzeugen
  vor Ort und gibt spannende Einblicke in das Thema technische Hilfeleistun
 g. Das Klinikum Itzehoe zeigt praxisnahe Reanimationsübungen rund um das 
 Thema Herzstillstand. Besucherinnen und Besucher erhalten so anschauliche 
 Einblicke in den Alltag der Einsatzkräfte. Für musikalische Unterhaltung
  sorgen die Stör Steel Drums sowie der Itzehoer Jugend-Spielmannszug von 
 1924 e.V. Parallel dazu laden zahlreiche Einzelhändler zum entspannten So
 nntagseinkauf ein und bieten Gelegenheit\, die Innenstadt und ihre vielfä
 ltigen Angebote zu entdecken. Auch die beliebte kostenlose Stadtführung s
 teht erneut auf dem Programm. Der Rundgang beginnt um 12 Uhr und bietet in
 teressante Einblicke in die Geschichte\, Bauwerke und Besonderheiten der S
 tadt. Treffpunkt ist in der Kirchenstraße vor dem Restaurant Himmel + Erd
 e. Eine Anmeldung ist in der Tourist-Information Itzehoe unter 04821 / 949
 012-0 erforderlich. Für das leibliche Wohl ist ebenfalls gesorgt: Unter a
 nderem lädt Beimis Weinparadies mit einem vielfältigen Getränkeangebot 
 zum Verweilen ein. Dazu sorgen Leckereien vom Schwenkgrill und frische Cre
 pes für Genuss vor Ort. Der Itzehoer Heldentag verbindet Information\, Un
 terhaltung und Einkaufserlebnis und lädt dazu ein\, einen besonderen Sonn
 tag in der Itzehoer Innenstadt zu verbringen. Weitere Informationen gibt e
 s unter mein-itzehoe.de.
BEGIN:VALARM
TRIGGER;VALUE=DURATION:P1D
ACTION:DISPLAY
DESCRIPTION:Itzehoer Heldentag mit verkaufsoffenem Sonntag
END:VALARM
END:VEVENT
END:VCALENDAR
