BEGIN:VCALENDAR
VERSION:2.0
PRODID:-//Sabre//Sabre VObject 4.1.6//EN
CALSCALE:GREGORIAN
BEGIN:VEVENT
UID:sabre-vobject-234f6170-91b4-4f23-afa0-b421b991549c
DTSTAMP:20260425T215325Z
SUMMARY:Gottesdienst mit Konfirmationen
DTSTART;TZID=Europe/Berlin:20260509T140000
ORGANIZER;CN=Ev.-Luth. Kirchengemeinde St. Anschar Münsterdorf:MAILTO:kirc
 hengemeinde-muensterdorf@kk-rm.de
LOCATION:St. Anschar\, Kirchenstr. 1\, Münsterdorf
BEGIN:VALARM
TRIGGER;VALUE=DURATION:P1D
ACTION:DISPLAY
DESCRIPTION:Gottesdienst mit Konfirmationen
END:VALARM
END:VEVENT
END:VCALENDAR
