BEGIN:VCALENDAR
VERSION:2.0
PRODID:-//Sabre//Sabre VObject 4.1.6//EN
CALSCALE:GREGORIAN
BEGIN:VEVENT
UID:sabre-vobject-d783557c-9f74-4667-8c11-e73582e41d13
DTSTAMP:20260424T121540Z
SUMMARY:Gottesdienst mit Abendmahl und Kindergottesdienst\, in der Kirche u
 nd auf YouTube
DTSTART;TZID=Europe/Berlin:20260503T100000
ORGANIZER;CN=Ev.-Luth. Kirchengemeinde St. Jakobi-Itzehoe:MAILTO:st.jakobi@
 kk-rm.de
LOCATION:St.-Jakobi-Kirche\, Viertkoppel 13\, Itzehoe
GEO:53.94336;9.51761
DESCRIPTION:\nAlle sind herzlich eingeladen\, mit uns Gottesdienst  zu feie
 rn
BEGIN:VALARM
TRIGGER;VALUE=DURATION:P1D
ACTION:DISPLAY
DESCRIPTION:Gottesdienst mit Abendmahl und Kindergottesdienst\, in der Kirc
 he und auf YouTube
END:VALARM
END:VEVENT
END:VCALENDAR
