BEGIN:VCALENDAR
VERSION:2.0
PRODID:-//Sabre//Sabre VObject 4.1.6//EN
CALSCALE:GREGORIAN
BEGIN:VEVENT
UID:sabre-vobject-ba6bb51e-9770-41a8-83dc-c2675bd5b736
DTSTAMP:20260424T035224Z
SUMMARY:Gottesdienst
DTSTART;TZID=Europe/Berlin:20260503T093000
ORGANIZER;CN=Ev.-Luth. Kirchengemeinde St. Marien Heiligenstedten:MAILTO:ki
 rchengemeinde-heiligenstedten@kk-rm.de
LOCATION:St. Marien Kirche\, Hauptstraße 1\, Heiligenstedten
GEO:53.930838;9.470042
BEGIN:VALARM
TRIGGER;VALUE=DURATION:P1D
ACTION:DISPLAY
DESCRIPTION:Gottesdienst
END:VALARM
END:VEVENT
END:VCALENDAR
