BEGIN:VCALENDAR
VERSION:2.0
PRODID:-//Sabre//Sabre VObject 4.1.6//EN
CALSCALE:GREGORIAN
BEGIN:VEVENT
UID:sabre-vobject-61136e5d-71de-48d8-a7de-ce2148592d18
DTSTAMP:20260420T025218Z
SUMMARY:Gottesdienst
DTSTART;TZID=Europe/Berlin:20260419T100000
ORGANIZER;CN=Ev.-Luth. Kirchengemeinde Lägerdorf:MAILTO:kirchengemeinde-la
 egerdorf@kk-rm.de
LOCATION:Lutherkirche Lägerdorf\, Stiftstraße 21\, Lägerdorf
GEO:53.89121;9.57055
BEGIN:VALARM
TRIGGER;VALUE=DURATION:P1D
ACTION:DISPLAY
DESCRIPTION:Gottesdienst
END:VALARM
END:VEVENT
END:VCALENDAR
