BEGIN:VCALENDAR
VERSION:2.0
PRODID:-//Sabre//Sabre VObject 4.1.6//EN
CALSCALE:GREGORIAN
BEGIN:VEVENT
UID:sabre-vobject-277afd21-673b-429a-bf84-618e591df8d7
DTSTAMP:20260424T043234Z
SUMMARY:Filmabend mit FATHER MOTHER SISTER BROTHER
DTSTART;TZID=Europe/Berlin:20260424T200000
DTEND;TZID=Europe/Berlin:20260424T220000
ORGANIZER;CN=Klappstuhlkultur Kellinghusen:MAILTO:eharzer@web.de
LOCATION:Klappstuhlkultur Kellinghusen e.V.\, Brauerstr. 62 - 64\, Kellingh
 usen
GEO:53.9539242;9.7308534
DESCRIPTION:FATHER MOTHER SISTER BROTHER - Film von Jim Jarmusch\nIn seinen
  neuen Film konnte Jim Jarmusch mit Tom Waits\, Charlotte Rampling und Cat
 e Blanchett u.v.a.m. wieder eine Starbesetzung gewinnen. Der Film wurde be
 i den Filmfestspielen in Venedig mit dem Goldenen Löwen ausgezeichnet.
BEGIN:VALARM
TRIGGER;VALUE=DURATION:P1D
ACTION:DISPLAY
DESCRIPTION:Filmabend mit FATHER MOTHER SISTER BROTHER
END:VALARM
END:VEVENT
END:VCALENDAR
