BEGIN:VCALENDAR
VERSION:2.0
PRODID:-//Sabre//Sabre VObject 4.1.6//EN
CALSCALE:GREGORIAN
BEGIN:VEVENT
UID:sabre-vobject-fdc05052-33aa-45e5-873b-77f23b8bafb9
DTSTAMP:20260424T121541Z
SUMMARY:Der Wolf und die 7 Geißlein
DTSTART;TZID=Europe/Berlin:20260503T110000
ORGANIZER;CN=theater itzehoe:MAILTO:no-reply@steinburg.eu
LOCATION:theater itzehoe\, Theaterplatz 1\, Itzehoe
GEO:53.9366967;9.5192039
DESCRIPTION:Puppentheaterstück ab 4 Jahren nach den Brüdern Grimm mit den
  Artisanen
BEGIN:VALARM
TRIGGER;VALUE=DURATION:P1D
ACTION:DISPLAY
DESCRIPTION:Der Wolf und die 7 Geißlein
END:VALARM
END:VEVENT
END:VCALENDAR
