BEGIN:VCALENDAR
VERSION:2.0
PRODID:-//Sabre//Sabre VObject 4.1.6//EN
CALSCALE:GREGORIAN
BEGIN:VEVENT
UID:sabre-vobject-fc827ec4-3f09-473c-91c2-5664ad5b7129
DTSTAMP:20260425T125101Z
SUMMARY:Bibelgesprächskreis
DTSTART;TZID=Europe/Berlin:20260428T150000
DTEND;TZID=Europe/Berlin:20260428T160000
ORGANIZER;CN=Ev.-Luth. Kirchengemeinde Schenefeld:MAILTO:kirchenbuero-schen
 efeld@kkre.de
LOCATION:Gemeindehaus\, Holstenstr. 31\, Schenefeld
GEO:54.04559005;9.4817359967426
DESCRIPTION:Bibelgesprächskreis im Gemeindehaus
BEGIN:VALARM
TRIGGER;VALUE=DURATION:P1D
ACTION:DISPLAY
DESCRIPTION:Bibelgesprächskreis
END:VALARM
END:VEVENT
END:VCALENDAR
