BEGIN:VCALENDAR
VERSION:2.0
PRODID:-//Sabre//Sabre VObject 4.1.6//EN
CALSCALE:GREGORIAN
BEGIN:VEVENT
UID:sabre-vobject-17a78fc4-7037-4eb2-ab89-18fa188f986e
DTSTAMP:20260422T054001Z
SUMMARY:BARMER 2. Basketball Bundesliga
DTSTART;TZID=Europe/Berlin:20251005T170000
DTEND;TZID=Europe/Berlin:20251005T200000
ORGANIZER;CN=Sportzentrum:MAILTO:no-reply@steinburg.eu
LOCATION:Sportzentrum am Lehmwohld\, Am Lehmwohld 49\, Itzehoe
GEO:53.9361305;9.5097372
DESCRIPTION:Itzehoe Eagles vs. Rasta Vechta 2\n\nSpitzensport und ein Event
  für die ganze Familie\n\nEinlass ab 15.30 Uhr
BEGIN:VALARM
TRIGGER;VALUE=DURATION:P1D
ACTION:DISPLAY
DESCRIPTION:BARMER 2. Basketball Bundesliga
END:VALARM
END:VEVENT
END:VCALENDAR
