BEGIN:VCALENDAR
VERSION:2.0
PRODID:-//Sabre//Sabre VObject 4.1.6//EN
CALSCALE:GREGORIAN
BEGIN:VEVENT
UID:sabre-vobject-ede23810-a714-491a-9f93-4bdcfca6135a
DTSTAMP:20260423T073113Z
SUMMARY:Andacht PLatt meets Pop
DTSTART;TZID=Europe/Berlin:20260422T183000
ORGANIZER;CN=Ev.-Luth. Kirchengemeinde St. Jürgen/Horst:MAILTO:kirchengeme
 inde-horst@kk-rm.de
LOCATION:Ev.-Luth. Kirchengemeinde St. Jürgen/Horst\, Bahnhofstraße 1b\, 
 Horst (Holstein)
GEO:53.814164;9.633204
DESCRIPTION:Wir freuen uns auf einen gemeinsamen Gottesdienst in der St. J
 ürgen Kirchengemeinde in Horst.\nWir laden herzlich ein zu unserem Gottes
 dienst ab 9:30 Uhr in der St. Jürgen Kirchengemeinde in Horst. Alle Infor
 mationen zu Gottesdiensten und Veranstaltungen finden Sie außerdem auf un
 serer Website der Kirchengemeinde Horst. Wir freuen uns auf Ihren Besuch!
BEGIN:VALARM
TRIGGER;VALUE=DURATION:P1D
ACTION:DISPLAY
DESCRIPTION:Andacht PLatt meets Pop
END:VALARM
END:VEVENT
END:VCALENDAR
