BEGIN:VCALENDAR
VERSION:2.0
PRODID:-//Sabre//Sabre VObject 4.1.6//EN
CALSCALE:GREGORIAN
BEGIN:VEVENT
UID:sabre-vobject-9c0057f8-6358-40bd-97c8-4637a483f0c0
DTSTAMP:20260422T075731Z
SUMMARY:The Black Rider
DTSTART;TZID=Europe/Berlin:20260430T193000
ORGANIZER;CN=theater itzehoe:MAILTO:no-reply@steinburg.eu
LOCATION:theater itzehoe\, Theaterplatz 1\, Itzehoe
GEO:53.9366967;9.5192039
DESCRIPTION:"The Casting of the Magic Bullets"\nMusical von Tom Waits\, Kat
 hleen Brennan und William S. Burroughs mit dem Schleswig-Holsteinischen La
 ndestheater
BEGIN:VALARM
TRIGGER;VALUE=DURATION:P1D
ACTION:DISPLAY
DESCRIPTION:The Black Rider
END:VALARM
END:VEVENT
END:VCALENDAR
