BEGIN:VCALENDAR
VERSION:2.0
PRODID:-//Sabre//Sabre VObject 4.1.6//EN
CALSCALE:GREGORIAN
BEGIN:VEVENT
UID:sabre-vobject-9b485b57-e701-4467-9518-ec10fea30f89
DTSTAMP:20260423T183116Z
SUMMARY:Konfirmation mit Pastor Lempelius
DTSTART;TZID=Europe/Berlin:20260502T140000
ORGANIZER;CN=Ev.-Luth. Kirchengemeinde St. Margarethen:MAILTO:silke.schikor
 e@kk-rm.de
LOCATION:Kirche St. Margarethen\, Poststr.\, Sankt Margarethen
GEO:53.890966;9.256963
BEGIN:VALARM
TRIGGER;VALUE=DURATION:P1D
ACTION:DISPLAY
DESCRIPTION:Konfirmation mit Pastor Lempelius
END:VALARM
END:VEVENT
END:VCALENDAR
