BEGIN:VCALENDAR
VERSION:2.0
PRODID:-//Sabre//Sabre VObject 4.1.6//EN
CALSCALE:GREGORIAN
BEGIN:VEVENT
UID:sabre-vobject-8fc03c31-584a-4758-88e8-7befe9615e32
DTSTAMP:20260425T053824Z
SUMMARY:Kindergottesdienst
DTSTART;TZID=Europe/Berlin:20260506T153000
DTEND;TZID=Europe/Berlin:20260506T163000
ORGANIZER;CN=Ev.-Luth. Kirchengemeinde Wewelsfleth:MAILTO:kirchengemeinde-w
 ewelsfleth@kk-rm.de
LOCATION:Ev.-Luth. Kirchengemeinde Wewelsfleth\, Schulstraße 2\, Wewelsfle
 th
GEO:53.843773;9.400308
BEGIN:VALARM
TRIGGER;VALUE=DURATION:P1D
ACTION:DISPLAY
DESCRIPTION:Kindergottesdienst
END:VALARM
END:VEVENT
END:VCALENDAR
