BEGIN:VCALENDAR
VERSION:2.0
PRODID:-//Sabre//Sabre VObject 4.1.6//EN
CALSCALE:GREGORIAN
BEGIN:VEVENT
UID:sabre-vobject-d5478339-f516-423c-9d0a-a975d66f24a2
DTSTAMP:20260423T204527Z
SUMMARY:Jugendgottesdienst
DTSTART;TZID=Europe/Berlin:20260306T193000
ORGANIZER;CN=Ev.-Luth. Kirchengemeinde Hohenlockstedt:MAILTO:kirche-hohenlo
 ckstedt@kk-rm.de
LOCATION:Dreifaltigkeitskirche\, Finnische Allee 27\, Hohenlockstedt
GEO:53.970038;9.619871
BEGIN:VALARM
TRIGGER;VALUE=DURATION:P1D
ACTION:DISPLAY
DESCRIPTION:Jugendgottesdienst
END:VALARM
END:VEVENT
END:VCALENDAR
