BEGIN:VCALENDAR
VERSION:2.0
PRODID:-//Sabre//Sabre VObject 4.1.6//EN
CALSCALE:GREGORIAN
BEGIN:VEVENT
UID:sabre-vobject-c15496f0-3873-4c18-84da-86258b708544
DTSTAMP:20260425T053906Z
SUMMARY:HG. Butzko: Der will nicht nur spielen
DTSTART;TZID=Europe/Berlin:20260506T193000
ORGANIZER;CN=theater itzehoe:MAILTO:no-reply@steinburg.eu
LOCATION:theater itzehoe\, Theaterplatz 1\, Itzehoe
GEO:53.9366967;9.5192039
DESCRIPTION:von/mit dem Erfinder des Kumpelkabaretts
BEGIN:VALARM
TRIGGER;VALUE=DURATION:P1D
ACTION:DISPLAY
DESCRIPTION:HG. Butzko: Der will nicht nur spielen
END:VALARM
END:VEVENT
END:VCALENDAR
