BEGIN:VCALENDAR
VERSION:2.0
PRODID:-//Sabre//Sabre VObject 4.1.6//EN
CALSCALE:GREGORIAN
BEGIN:VEVENT
UID:sabre-vobject-469a5c5d-9de5-497a-8e8e-09ea33d81a05
DTSTAMP:20260423T180543Z
SUMMARY:Gottesdienst
DTSTART;TZID=Europe/Berlin:20260503T100000
ORGANIZER;CN=Ev.-Luth. Kirchengemeinde Lägerdorf:MAILTO:kirchengemeinde-la
 egerdorf@kk-rm.de
LOCATION:Lutherkirche Lägerdorf\, Stiftstraße 21\, Lägerdorf
GEO:53.89121;9.57055
BEGIN:VALARM
TRIGGER;VALUE=DURATION:P1D
ACTION:DISPLAY
DESCRIPTION:Gottesdienst
END:VALARM
END:VEVENT
END:VCALENDAR
