BEGIN:VCALENDAR
VERSION:2.0
PRODID:-//Sabre//Sabre VObject 4.1.6//EN
CALSCALE:GREGORIAN
BEGIN:VEVENT
UID:sabre-vobject-1162696d-d2f4-4f38-bf10-cae1f79d0b9a
DTSTAMP:20260422T070913Z
SUMMARY:Gottesdienst
DTSTART;TZID=Europe/Berlin:20260125T110000
ORGANIZER;CN=Ev.-Luth. Kirchengemeinde Breitenberg:MAILTO:kirchengemeinde-b
 reitenberg@kk-rm.de
LOCATION:Kirche Breitenberg\, Kirchenstraße 16\, Breitenberg
GEO:53.923928;9.636218
BEGIN:VALARM
TRIGGER;VALUE=DURATION:P1D
ACTION:DISPLAY
DESCRIPTION:Gottesdienst
END:VALARM
END:VEVENT
END:VCALENDAR
