BEGIN:VCALENDAR
VERSION:2.0
PRODID:-//Sabre//Sabre VObject 4.1.6//EN
CALSCALE:GREGORIAN
BEGIN:VEVENT
UID:sabre-vobject-564ea361-10d9-4cd2-9c4d-246fbfc4cb78
DTSTAMP:20260425T053850Z
SUMMARY:Bibelgesprächskreis
DTSTART;TZID=Europe/Berlin:20260505T150000
DTEND;TZID=Europe/Berlin:20260505T160000
ORGANIZER;CN=Ev.-Luth. Kirchengemeinde Schenefeld:MAILTO:kirchenbuero-schen
 efeld@kkre.de
LOCATION:Gemeindehaus\, Holstenstr. 31\, Schenefeld
GEO:54.04559005;9.4817359967426
DESCRIPTION:Bibelgesprächskreis im Gemeindehaus
BEGIN:VALARM
TRIGGER;VALUE=DURATION:P1D
ACTION:DISPLAY
DESCRIPTION:Bibelgesprächskreis
END:VALARM
END:VEVENT
END:VCALENDAR
