BEGIN:VCALENDAR
VERSION:2.0
PRODID:-//Sabre//Sabre VObject 4.1.6//EN
CALSCALE:GREGORIAN
BEGIN:VEVENT
UID:sabre-vobject-11b762d3-04bf-4c58-b2d5-83c5265d375a
DTSTAMP:20260422T075730Z
SUMMARY:Abendmahl mit Konfis\, Pastorin Meyns.
DTSTART;TZID=Europe/Berlin:20260430T183000
DTEND;TZID=Europe/Berlin:20260430T193000
ORGANIZER;CN=Ev.-Luth. Kirchengemeinde Schenefeld:MAILTO:kirchenbuero-schen
 efeld@kkre.de
LOCATION:Bonifatiuskirche\, Am Markt 8\, Schenefeld
GEO:54.0462237;9.4830113
DESCRIPTION:Abendmahl mit Konfis\, Pastorin Meyns.
BEGIN:VALARM
TRIGGER;VALUE=DURATION:P1D
ACTION:DISPLAY
DESCRIPTION:Abendmahl mit Konfis\, Pastorin Meyns.
END:VALARM
END:VEVENT
END:VCALENDAR
