BEGIN:VCALENDAR
VERSION:2.0
PRODID:-//Sabre//Sabre VObject 4.1.6//EN
CALSCALE:GREGORIAN
BEGIN:VEVENT
UID:sabre-vobject-c67df0a9-c141-4de9-af97-78517d8b794c
DTSTAMP:20260420T191506Z
SUMMARY:The Music of Ludovico Einaudi - Tribute-Klavierkonzert
DTSTART;TZID=Europe/Berlin:20260428T190000
ORGANIZER;CN=theater itzehoe:MAILTO:no-reply@steinburg.eu
LOCATION:theater itzehoe\, Theaterplatz 1\, Itzehoe
GEO:53.9366967;9.5192039
DESCRIPTION:\nEine Veranstaltung der Reihe The Music of Ludovico Einaudi: T
 ribute-Klavierkonzert - Ludovico Einaudi Tribute bei Kerzenschein\n\nThe M
 usic of Ludovico Einaudi: Tribute-Klavierkonzert - Ludovico Einaudi Tribut
 e bei Kerzenschein
BEGIN:VALARM
TRIGGER;VALUE=DURATION:P1D
ACTION:DISPLAY
DESCRIPTION:The Music of Ludovico Einaudi - Tribute-Klavierkonzert
END:VALARM
END:VEVENT
END:VCALENDAR
