BEGIN:VCALENDAR
VERSION:2.0
PRODID:-//Sabre//Sabre VObject 4.1.6//EN
CALSCALE:GREGORIAN
BEGIN:VEVENT
UID:sabre-vobject-1597a2dd-f299-42e3-bf48-daeaca800eed
DTSTAMP:20260419T200540Z
SUMMARY:Safe Haven
DTSTART;TZID=Europe/Berlin:20250921T130000
DTEND;TZID=Europe/Berlin:20250921T170000
ORGANIZER;CN=Kunstverein Glückstadt e.V.:MAILTO:no-reply@steinburg.eu
LOCATION:Palais für aktuelle Kunst\, Am Hafen 46\, Glückstadt
GEO:53.78592;9.41731
DESCRIPTION:Installationen von Madeleine Dietz\, Siri Wirtensohn und Heiko 
 Wommelsdorf.
BEGIN:VALARM
TRIGGER;VALUE=DURATION:P1D
ACTION:DISPLAY
DESCRIPTION:Safe Haven
END:VALARM
END:VEVENT
END:VCALENDAR
