BEGIN:VCALENDAR
VERSION:2.0
PRODID:-//Sabre//Sabre VObject 4.1.6//EN
CALSCALE:GREGORIAN
BEGIN:VEVENT
UID:sabre-vobject-1a3db5b6-dc3b-4722-8e4c-ba63608cb458
DTSTAMP:20260419T205719Z
SUMMARY:Konfirmation
DTSTART;TZID=Europe/Berlin:20260425T140000
ORGANIZER;CN=Ev.-Luth. Kirchengemeinde Neuenbrook:MAILTO:kirche-neuenbrook@
 kk-rm.de
LOCATION:St. Katharinen\, Hauptstraße 11\, Neuenbrook
GEO:53.859493;9.534173
BEGIN:VALARM
TRIGGER;VALUE=DURATION:P1D
ACTION:DISPLAY
DESCRIPTION:Konfirmation
END:VALARM
END:VEVENT
END:VCALENDAR
